BEGIN:VCALENDAR
VERSION:2.0
PRODID:-//AELAMA - ECPv6.2.5//NONSGML v1.0//EN
CALSCALE:GREGORIAN
METHOD:PUBLISH
X-ORIGINAL-URL:https://labs.aelama.org
X-WR-CALDESC:Eventos para AELAMA
REFRESH-INTERVAL;VALUE=DURATION:PT1H
X-Robots-Tag:noindex
X-PUBLISHED-TTL:PT1H
BEGIN:VTIMEZONE
TZID:Europe/Madrid
BEGIN:DAYLIGHT
TZOFFSETFROM:+0100
TZOFFSETTO:+0200
TZNAME:CEST
DTSTART:20190331T010000
END:DAYLIGHT
BEGIN:STANDARD
TZOFFSETFROM:+0200
TZOFFSETTO:+0100
TZNAME:CET
DTSTART:20191027T010000
END:STANDARD
BEGIN:DAYLIGHT
TZOFFSETFROM:+0100
TZOFFSETTO:+0200
TZNAME:CEST
DTSTART:20200329T010000
END:DAYLIGHT
BEGIN:STANDARD
TZOFFSETFROM:+0200
TZOFFSETTO:+0100
TZNAME:CET
DTSTART:20201025T010000
END:STANDARD
BEGIN:DAYLIGHT
TZOFFSETFROM:+0100
TZOFFSETTO:+0200
TZNAME:CEST
DTSTART:20210328T010000
END:DAYLIGHT
BEGIN:STANDARD
TZOFFSETFROM:+0200
TZOFFSETTO:+0100
TZNAME:CET
DTSTART:20211031T010000
END:STANDARD
BEGIN:DAYLIGHT
TZOFFSETFROM:+0100
TZOFFSETTO:+0200
TZNAME:CEST
DTSTART:20220327T010000
END:DAYLIGHT
BEGIN:STANDARD
TZOFFSETFROM:+0200
TZOFFSETTO:+0100
TZNAME:CET
DTSTART:20221030T010000
END:STANDARD
BEGIN:DAYLIGHT
TZOFFSETFROM:+0100
TZOFFSETTO:+0200
TZNAME:CEST
DTSTART:20230326T010000
END:DAYLIGHT
BEGIN:STANDARD
TZOFFSETFROM:+0200
TZOFFSETTO:+0100
TZNAME:CET
DTSTART:20231029T010000
END:STANDARD
BEGIN:DAYLIGHT
TZOFFSETFROM:+0100
TZOFFSETTO:+0200
TZNAME:CEST
DTSTART:20240331T010000
END:DAYLIGHT
BEGIN:STANDARD
TZOFFSETFROM:+0200
TZOFFSETTO:+0100
TZNAME:CET
DTSTART:20241027T010000
END:STANDARD
END:VTIMEZONE
BEGIN:VEVENT
DTSTART;TZID=Europe/Madrid:20240418T080000
DTEND;TZID=Europe/Madrid:20240420T170000
DTSTAMP:20260419T165516
CREATED:20240210T182102Z
LAST-MODIFIED:20240210T182345Z
UID:1788-1713427200-1713632400@labs.aelama.org
SUMMARY:XII Congreso Español de Lactancia Materna
DESCRIPTION:Del 18  al 20 de abril de 2024 tendrá lugar el XII Congreso Español de Lactancia Materna de la IHAN. \nEsta XII edición se celebrará en Expomeloneras\, en Maspalomas\, Las Palmas. \nToda la información está disponible en la web del congreso \nRecuerda que la inscripción con descuento por pronto pago termina el 10 de febrero
URL:https://labs.aelama.org/evento/xii-congreso-espanol-de-lactancia-materna/
LOCATION:Expomeloneras\, Maspalomas\, Las Palmas\, Maspalomas\, España
ATTACH;FMTTYPE=image/png:https://labs.aelama.org/wp-content/uploads/2024/02/Captura-desde-2024-02-10-19-23-18-1.png
END:VEVENT
BEGIN:VEVENT
DTSTART;TZID=Europe/Madrid:20200215T094500
DTEND;TZID=Europe/Madrid:20200215T193000
DTSTAMP:20260419T165516
CREATED:20200117T105456Z
LAST-MODIFIED:20200117T110225Z
UID:1135-1581759900-1581795000@labs.aelama.org
SUMMARY:I Curso en Asesoría en Lactancia Materna de la Asociación Bico de Leite
DESCRIPTION:La Asociación Lucense Prolactancia Materna “Bico de Leite” va a realizar el I Curso en Asesoría en Lactancia Materna. Se trata de una formación que se realizará en el Hospital Universitario Lucus Augusti (HULA) de Lugo durante los meses de febrero y marzo.\n\nEste curso está dirigido tanto a madres que quieren asesorar a otras madres en grupos de apoyo\, como a profesionales sanitaros que quieran mejorar sus habilidades como asesores de lactancia. Se trata de un curso teórico-practico que pretende ofrecer herramientas para aprender a dar apoyo real a las mujeres y familias que deseen amamantar a sus bebés.\n\nEl cronograma puede descargarse aquí.\n\nAnte cualquier duda o consulta pueden dirigirse al correo electrónico: cursoasesoria2020@gmail.com\, o al número de teléfono 686147190.
URL:https://labs.aelama.org/evento/i-curso-en-asesoria-en-lactancia-materna-de-la-asociacion-bico-de-leite/
LOCATION:Hospital Universitario Lucus Augusti (HULA) de Lugo\, Lugo\, Galicia\, España
CATEGORIES:Cursos
ATTACH;FMTTYPE=image/jpeg:https://labs.aelama.org/wp-content/uploads/2020/01/cartel_A3_bicodeleite-HQ-03-scaled.jpg
ORGANIZER;CN="Asociaci%C3%B3n 'Bico de Leite'":MAILTO:cursoasesoria2020@gmail.com
END:VEVENT
BEGIN:VEVENT
DTSTART;VALUE=DATE:20190909
DTEND;VALUE=DATE:20190923
DTSTAMP:20260419T165516
CREATED:20190907T172510Z
LAST-MODIFIED:20190907T172922Z
UID:907-1567987200-1569196799@labs.aelama.org
SUMMARY:I Concurso de testimonios de lactancia
DESCRIPTION:Próximamente se celebrará la semana de la lactancia en Europa. Aprovechando la ocasión convocamos este Primer concurso de testimonios de lactancia. Queremos visibilizar vuestras experiencias con la lactancia\, cómo la habéis vivido.\nBásicamente:\n\n 	Se aceptan historias desde el lunes 9 hasta el domingo 22\, de una longitud de hasta 500 palabras.\n\n\n 	Las historias se publicarán de modo anónimo en Facebook\, durante la semana del 22 de septiembre y se elegirán dos ganadores:\n1) la que tenga más “me gusta”\,\n2) se elegirá otra historia por parte del jurado de AELAMA.\nA los ganadores les regalaremos la suscripción como socios.\n\n\n 	Al enviarnos tu historia conservas la propiedad intelectual sobre ella\, pero nos autorizas a publicarla\, así que probablemente no quieras poner tu nombre completo o el de otras personas (puedes ver más detalles en las bases del concurso).\n\n¡Que lo escribáis con gracia y que disfrutemos!\n\n\n\n  \n\n\n\n\n\n\n\n\n\n\n	\n		\n			TESTIMONIOS DE LACTANCIA\n			\n		\n		\n	\n	\n		\n			Autor\n(pon aquí el nombre que quieras que sea mostrado públicamente\,\npuede ser un alias o nickname)\n \n			 \n		\n		\n			\nCorreo electrónico\n(no será público)\n \n			 \n		\n	\n	\n		\n			\n				\nAdjuntar el fichero de texto con el relato\n\nTamaño máximo de archivo: 5MB / Formato de archivo permitido: .txt\, .rtf\, .doc\, .docx\, .odt\n\n				 \n			\n		\n		\n			\n				He leído y acepto las bases del concurso\n				 \n			\n			\n				Al marcar esta casilla consiento el tratamiento de mis datos por parte de AELAMA\n				 \n			\n			\n				Quiero recibir más información sobre AELAMA
URL:https://labs.aelama.org/evento/i-concurso-de-testimonios-de-lactancia/
CATEGORIES:Concurso
END:VEVENT
BEGIN:VEVENT
DTSTART;VALUE=DATE:20190404
DTEND;VALUE=DATE:20190407
DTSTAMP:20260419T165516
CREATED:20181127T114344Z
LAST-MODIFIED:20181127T114648Z
UID:131-1554336000-1554595199@labs.aelama.org
SUMMARY:X Congreso Español de Lactancia Materna
DESCRIPTION:Un año más contamos con ponentes con experiencia en la materia\, tanto a nivel nacional como internacional\, que expondrán los conocimientos más actualizados en lactancia materna. Nos reuniremos en conferencias\, mesas redondas\, talleres\, comunicaciones orales libres y posters que nos permitirán actualizar nuestros conocimientos y compartir experiencias a lo largo de los tres días de congreso. \nDurante todo este tiempo\, profesionales de la salud\, estudiantes y madres de grupos de apoyo a la lactancia\, compartiremos inquietudes y conocimiento científico con el fin de contribuir a la promoción\, protección y apoyo a la lactancia materna. \nCon el lema de este año\, “Gotas de vida\, fuente de salud”\, queremos destacar la leche materna como alimento vivo que da vida y favorece la salud de las madres y de sus hijos e hijas\, tanto a corto como a largo plazo. \nEl congreso se desarrollará en una de las ciudades históricas por excelencia de España\, Santiago de Compostela\, ciudad declarada Patrimonio de la Humanidad por la UNESCO y meta para muchos peregrinos que caminan desde distintas partes de todo el mundo. Compostela posee una importante riqueza cultural\, arquitectónica\, artística\, y gastronómica\, pero sobre todo destaca por la hospitalidad y calidez de su gente.
URL:https://labs.aelama.org/evento/x-congreso-espanol-de-lactancia-materna/
LOCATION:Palacio de Congresos. Santiago de Compostela\, Palacio de Congresos\, Santiago de Compostela\, A Coruña\, 15707\, España
CATEGORIES:Congresos
ATTACH;FMTTYPE=image/jpeg:https://labs.aelama.org/wp-content/uploads/2018/11/header_lactancia.jpg
END:VEVENT
END:VCALENDAR